BEGIN:VCALENDAR
VERSION:2.0
PRODID:-//British Cars of New Hampshire - ECPv6.15.20//NONSGML v1.0//EN
CALSCALE:GREGORIAN
METHOD:PUBLISH
X-ORIGINAL-URL:https://www.bcnh.org
X-WR-CALDESC:Events for British Cars of New Hampshire
REFRESH-INTERVAL;VALUE=DURATION:PT1H
X-Robots-Tag:noindex
X-PUBLISHED-TTL:PT1H
BEGIN:VTIMEZONE
TZID:America/New_York
BEGIN:DAYLIGHT
TZOFFSETFROM:-0500
TZOFFSETTO:-0400
TZNAME:EDT
DTSTART:20250309T070000
END:DAYLIGHT
BEGIN:STANDARD
TZOFFSETFROM:-0400
TZOFFSETTO:-0500
TZNAME:EST
DTSTART:20251102T060000
END:STANDARD
BEGIN:DAYLIGHT
TZOFFSETFROM:-0500
TZOFFSETTO:-0400
TZNAME:EDT
DTSTART:20260308T070000
END:DAYLIGHT
BEGIN:STANDARD
TZOFFSETFROM:-0400
TZOFFSETTO:-0500
TZNAME:EST
DTSTART:20261101T060000
END:STANDARD
BEGIN:DAYLIGHT
TZOFFSETFROM:-0500
TZOFFSETTO:-0400
TZNAME:EDT
DTSTART:20270314T070000
END:DAYLIGHT
BEGIN:STANDARD
TZOFFSETFROM:-0400
TZOFFSETTO:-0500
TZNAME:EST
DTSTART:20271107T060000
END:STANDARD
END:VTIMEZONE
BEGIN:VEVENT
DTSTART;TZID=America/New_York:20260918T080000
DTEND;TZID=America/New_York:20260920T170000
DTSTAMP:20260421T071729
CREATED:20260205T125116Z
LAST-MODIFIED:20260217T011452Z
UID:10000377-1789718400-1789923600@www.bcnh.org
SUMMARY:British Invasion\, Stowe VT
DESCRIPTION:Mark your calendar for British Invasion XXXV\, September 18th-20th\, 2026 in beautiful Stowe\, Vermont. \nPlease take a moment to let us know that you will be joining us in September so that we may work on our field layout.  \nThis year’s featured marques are Jaguar\, Land Rover and Morgan.  \nWe are working on expanding British Invasion 2026 by adding Vermont Arts & Crafts as a New section\, with the hope of attracting more attendees on Saturday and Sunday.  The Stoweflake has once again set up discounted rates for British Invasion Attendees and Guests.  Please make your reservations on or before August 18\, 2026 and make sure to say that you are a member of the British Invasion Group. Please see details below. \nWe are proud to announce that you may order British Invasion Regalia from our website.   \nThank you to all who attended British Invasion 2025 which was a resounding success due to your continued support and patronage.   We look forward to seeing you all on Friday\, September 18th – Sunday\, September 20\, 2026! \n 
URL:https://www.bcnh.org/event/british-invasion-stowe-vt-2/
CATEGORIES:BCNH Events
END:VEVENT
BEGIN:VEVENT
DTSTART;TZID=America/New_York:20260920T090000
DTEND;TZID=America/New_York:20260920T110000
DTSTAMP:20260421T071729
CREATED:20240527T132054Z
LAST-MODIFIED:20251112T000102Z
UID:10000281-1789894800-1789902000@www.bcnh.org
SUMMARY:Monadnock Rotary Cruz-In
DESCRIPTION:Park your cars downtown Peterborough in Depot Square and go for breakfast. This event is popular with the Monadnock Council.
URL:https://www.bcnh.org/event/monadnock-rotary-cruz-in-4/
CATEGORIES:BCNH Events
END:VEVENT
END:VCALENDAR