BEGIN:VCALENDAR
VERSION:2.0
PRODID:-//British Cars of New Hampshire - ECPv6.15.20//NONSGML v1.0//EN
CALSCALE:GREGORIAN
METHOD:PUBLISH
X-WR-CALNAME:British Cars of New Hampshire
X-ORIGINAL-URL:https://www.bcnh.org
X-WR-CALDESC:Events for British Cars of New Hampshire
REFRESH-INTERVAL;VALUE=DURATION:PT1H
X-Robots-Tag:noindex
X-PUBLISHED-TTL:PT1H
BEGIN:VTIMEZONE
TZID:America/New_York
BEGIN:DAYLIGHT
TZOFFSETFROM:-0500
TZOFFSETTO:-0400
TZNAME:EDT
DTSTART:20250309T070000
END:DAYLIGHT
BEGIN:STANDARD
TZOFFSETFROM:-0400
TZOFFSETTO:-0500
TZNAME:EST
DTSTART:20251102T060000
END:STANDARD
BEGIN:DAYLIGHT
TZOFFSETFROM:-0500
TZOFFSETTO:-0400
TZNAME:EDT
DTSTART:20260308T070000
END:DAYLIGHT
BEGIN:STANDARD
TZOFFSETFROM:-0400
TZOFFSETTO:-0500
TZNAME:EST
DTSTART:20261101T060000
END:STANDARD
BEGIN:DAYLIGHT
TZOFFSETFROM:-0500
TZOFFSETTO:-0400
TZNAME:EDT
DTSTART:20270314T070000
END:DAYLIGHT
BEGIN:STANDARD
TZOFFSETFROM:-0400
TZOFFSETTO:-0500
TZNAME:EST
DTSTART:20271107T060000
END:STANDARD
END:VTIMEZONE
BEGIN:VEVENT
DTSTART;TZID=America/New_York:20260914T180000
DTEND;TZID=America/New_York:20260914T200000
DTSTAMP:20260421T085258
CREATED:20230109T202513Z
LAST-MODIFIED:20251111T235432Z
UID:10000201-1789408800-1789416000@www.bcnh.org
SUMMARY:Southern Council Meeting
DESCRIPTION:Meeting starts at 7:00 pm.  Arrive at 6:00 pm if you wish to eat and socialize. Non-members are always welcome. Moe Joe’s Family Restaurant\, 2175 Candia Road\, Manchester\, NH. \nThe meeting this month is a week later due to Labor Day.
URL:https://www.bcnh.org/event/southern-council-meeting-22/
CATEGORIES:BCNH Events
ORGANIZER;CN="Mike Sweet":MAILTO:coventrycat71@comcast.net
END:VEVENT
BEGIN:VEVENT
DTSTART;TZID=America/New_York:20260915T180000
DTEND;TZID=America/New_York:20260915T200000
DTSTAMP:20260421T085258
CREATED:20230109T202856Z
LAST-MODIFIED:20251111T235800Z
UID:10000204-1789495200-1789502400@www.bcnh.org
SUMMARY:Monadnock Council Meeting
DESCRIPTION:Meet upstairs at 6 pm if you want to eat and socialize. The meeting will be downstairs at 7 pm. Non-members are welcome. Dublin Road Taproom and Eatery\, Shattuck Golf Course\, 53 Dublin Rd\, Jaffrey NH.
URL:https://www.bcnh.org/event/monadnock-council-meeting-20/
LOCATION:Dublin Road Taproom & Eatery\, 53 Dublin Road\, Jaffrey\, NH\, 03452
CATEGORIES:BCNH Events
END:VEVENT
BEGIN:VEVENT
DTSTART;TZID=America/New_York:20260917T180000
DTEND;TZID=America/New_York:20260917T200000
DTSTAMP:20260421T085258
CREATED:20230306T190944Z
LAST-MODIFIED:20251111T235924Z
UID:10000214-1789668000-1789675200@www.bcnh.org
SUMMARY:North  Council Meeting
DESCRIPTION:The meeting starts at 7:00 pm. Arrive around 6:00 pm if you plan to eat and socialize. Non-members are always welcome to attend. \nThe Homestead Restaurant. 1567 Summer Street \, Bristol\, NH. \nPlease remember to RSVP to Kellie\, Kabraconier5@gmail.com if you plan to attend.  We have to give an accurate\nheadcount to the Homestead.\n 
URL:https://www.bcnh.org/event/north-council-meeting-21/
LOCATION:The Homestead Restaurant\, 1567 Summer Street\, Bristol\, NH\, 03222
CATEGORIES:BCNH Events
END:VEVENT
BEGIN:VEVENT
DTSTART;TZID=America/New_York:20260918T080000
DTEND;TZID=America/New_York:20260920T170000
DTSTAMP:20260421T085258
CREATED:20260205T125116Z
LAST-MODIFIED:20260217T011452Z
UID:10000377-1789718400-1789923600@www.bcnh.org
SUMMARY:British Invasion\, Stowe VT
DESCRIPTION:Mark your calendar for British Invasion XXXV\, September 18th-20th\, 2026 in beautiful Stowe\, Vermont. \nPlease take a moment to let us know that you will be joining us in September so that we may work on our field layout.  \nThis year’s featured marques are Jaguar\, Land Rover and Morgan.  \nWe are working on expanding British Invasion 2026 by adding Vermont Arts & Crafts as a New section\, with the hope of attracting more attendees on Saturday and Sunday.  The Stoweflake has once again set up discounted rates for British Invasion Attendees and Guests.  Please make your reservations on or before August 18\, 2026 and make sure to say that you are a member of the British Invasion Group. Please see details below. \nWe are proud to announce that you may order British Invasion Regalia from our website.   \nThank you to all who attended British Invasion 2025 which was a resounding success due to your continued support and patronage.   We look forward to seeing you all on Friday\, September 18th – Sunday\, September 20\, 2026! \n 
URL:https://www.bcnh.org/event/british-invasion-stowe-vt-2/
CATEGORIES:BCNH Events
END:VEVENT
BEGIN:VEVENT
DTSTART;TZID=America/New_York:20260919T100000
DTEND;TZID=America/New_York:20260919T140000
DTSTAMP:20260421T085258
CREATED:20251217T202258Z
LAST-MODIFIED:20251217T202258Z
UID:10000368-1789812000-1789826400@www.bcnh.org
SUMMARY:Fryeburg Rec Car Show\, Fryeburg ME
DESCRIPTION:FYI for BCNH members\nFor all you “northern” BCNH members\, I wanted to give a heads up to a\ncool car show this coming September the 19 th in Fryeburg Maine. This is\njust over the NH Maine border and minutes from North Conway NH.\n Fryeburg Rec Car Show September 19\, 2026\, rain date is September\n20 2026\n Registration is 8am to 10am\, Show time 10am to 2pm\n Awards at 1pm\n $15 entry fee\n Food vendors\, music and more!\n Giveaway to first 100 cars pre-registered. To pre-register by email\,\nsend to fryeburgcic@gmail.com or scan the QR code on the poster\nFryeburg Rec Fields\n59 Recreation Drive\nFryeburg\, Maine 04037\nI reached out to Dave Swartz\, our hard-working newsletter editor to enquire\nabout adding this show date and maybe the poster that I was sent for our\nnewsletter. Dave was quick to respond positively!\nI have been working with the organizers who have promised to have new\n“British Car” class in the show.\nI entered my TR7 2 years in a row and really enjoyed myself. \nFor more information contact Steve Brooks\, SteveBrooks043@gmail.com
URL:https://www.bcnh.org/event/fryeburg-rec-car-show-fryeburg-me/
CATEGORIES:BCNH Events
END:VEVENT
END:VCALENDAR