BEGIN:VCALENDAR
VERSION:2.0
PRODID:-//British Cars of New Hampshire - ECPv6.15.20//NONSGML v1.0//EN
CALSCALE:GREGORIAN
METHOD:PUBLISH
X-WR-CALNAME:British Cars of New Hampshire
X-ORIGINAL-URL:https://www.bcnh.org
X-WR-CALDESC:Events for British Cars of New Hampshire
REFRESH-INTERVAL;VALUE=DURATION:PT1H
X-Robots-Tag:noindex
X-PUBLISHED-TTL:PT1H
BEGIN:VTIMEZONE
TZID:America/New_York
BEGIN:DAYLIGHT
TZOFFSETFROM:-0500
TZOFFSETTO:-0400
TZNAME:EDT
DTSTART:20250309T070000
END:DAYLIGHT
BEGIN:STANDARD
TZOFFSETFROM:-0400
TZOFFSETTO:-0500
TZNAME:EST
DTSTART:20251102T060000
END:STANDARD
BEGIN:DAYLIGHT
TZOFFSETFROM:-0500
TZOFFSETTO:-0400
TZNAME:EDT
DTSTART:20260308T070000
END:DAYLIGHT
BEGIN:STANDARD
TZOFFSETFROM:-0400
TZOFFSETTO:-0500
TZNAME:EST
DTSTART:20261101T060000
END:STANDARD
BEGIN:DAYLIGHT
TZOFFSETFROM:-0500
TZOFFSETTO:-0400
TZNAME:EDT
DTSTART:20270314T070000
END:DAYLIGHT
BEGIN:STANDARD
TZOFFSETFROM:-0400
TZOFFSETTO:-0500
TZNAME:EST
DTSTART:20271107T060000
END:STANDARD
END:VTIMEZONE
BEGIN:VEVENT
DTSTART;TZID=America/New_York:20260719T090000
DTEND;TZID=America/New_York:20260719T110000
DTSTAMP:20260420T195924
CREATED:20240527T131820Z
LAST-MODIFIED:20251026T201027Z
UID:10000279-1784451600-1784458800@www.bcnh.org
SUMMARY:Rotary Cruz-In
DESCRIPTION:Park your cars downtown Peterborough in Depot Square and go for breakfast. This event is popular with the Monadnock Council. \nDrive has been cancelled. Will reschedule at another time.
URL:https://www.bcnh.org/event/monadnock-rotary-cruz-in-2/
CATEGORIES:BCNH Events
END:VEVENT
BEGIN:VEVENT
DTSTART;TZID=America/New_York:20260719T090000
DTEND;TZID=America/New_York:20260719T120000
DTSTAMP:20260420T195924
CREATED:20260301T211309Z
LAST-MODIFIED:20260301T211309Z
UID:10000383-1784451600-1784462400@www.bcnh.org
SUMMARY:BCNH Cars and Coffee\, NH Food bank\, Manchester\, NH
DESCRIPTION:The event will run between 9-12 at the NH Foodbank parking lot at 700 E Industrial Park Drive\, Manchester\, NH. \nIt’s all to benefit the NH Foodbank. Monetary or canned good donations directly to the Food Bank are highly encouraged. \nThe NHFB food truck will be available for food and refreshments.
URL:https://www.bcnh.org/event/bcnh-cars-and-coffee-nh-food-bank-manchester-nh/
CATEGORIES:BCNH Events
END:VEVENT
BEGIN:VEVENT
DTSTART;TZID=America/New_York:20260721T180000
DTEND;TZID=America/New_York:20260721T200000
DTSTAMP:20260420T195924
CREATED:20230109T195613Z
LAST-MODIFIED:20251026T200813Z
UID:10000195-1784656800-1784664000@www.bcnh.org
SUMMARY:Monadnock Council Meeting
DESCRIPTION:Meet upstairs at 6 pm if you want to eat and socialize. The meeting will be downstairs at 7 pm. Non-members are welcome. Dublin Road Taproom and Eatery\, Shattuck Golf Course\, 53 Dublin Rd\, Jaffrey NH.
URL:https://www.bcnh.org/event/monadnock-council-meeting-18/
LOCATION:Dublin Road Taproom & Eatery\, 53 Dublin Road\, Jaffrey\, NH\, 03452
CATEGORIES:BCNH Events
END:VEVENT
END:VCALENDAR