BEGIN:VCALENDAR
VERSION:2.0
PRODID:-//British Cars of New Hampshire - ECPv6.15.20//NONSGML v1.0//EN
CALSCALE:GREGORIAN
METHOD:PUBLISH
X-ORIGINAL-URL:https://www.bcnh.org
X-WR-CALDESC:Events for British Cars of New Hampshire
REFRESH-INTERVAL;VALUE=DURATION:PT1H
X-Robots-Tag:noindex
X-PUBLISHED-TTL:PT1H
BEGIN:VTIMEZONE
TZID:America/New_York
BEGIN:DAYLIGHT
TZOFFSETFROM:-0500
TZOFFSETTO:-0400
TZNAME:EDT
DTSTART:20250309T070000
END:DAYLIGHT
BEGIN:STANDARD
TZOFFSETFROM:-0400
TZOFFSETTO:-0500
TZNAME:EST
DTSTART:20251102T060000
END:STANDARD
BEGIN:DAYLIGHT
TZOFFSETFROM:-0500
TZOFFSETTO:-0400
TZNAME:EDT
DTSTART:20260308T070000
END:DAYLIGHT
BEGIN:STANDARD
TZOFFSETFROM:-0400
TZOFFSETTO:-0500
TZNAME:EST
DTSTART:20261101T060000
END:STANDARD
BEGIN:DAYLIGHT
TZOFFSETFROM:-0500
TZOFFSETTO:-0400
TZNAME:EDT
DTSTART:20270314T070000
END:DAYLIGHT
BEGIN:STANDARD
TZOFFSETFROM:-0400
TZOFFSETTO:-0500
TZNAME:EST
DTSTART:20271107T060000
END:STANDARD
END:VTIMEZONE
BEGIN:VEVENT
DTSTART;TZID=America/New_York:20260616T180000
DTEND;TZID=America/New_York:20260616T200000
DTSTAMP:20260420T145840
CREATED:20230105T182925Z
LAST-MODIFIED:20251013T210059Z
UID:10000194-1781632800-1781640000@www.bcnh.org
SUMMARY:Monadnock Council Meeting
DESCRIPTION:Meet upstairs at 6 pm if you want to eat and socialize. The meeting will be downstairs at 7 pm. Non-members are welcome. Dublin Road Taproom and Eatery\, Shattuck Golf Course\, 53 Dublin Rd\, Jaffrey NH.
URL:https://www.bcnh.org/event/monadnock-council-meeting-17/
LOCATION:Dublin Road Taproom & Eatery\, 53 Dublin Road\, Jaffrey\, NH\, 03452
CATEGORIES:BCNH Events
END:VEVENT
BEGIN:VEVENT
DTSTART;TZID=America/New_York:20260618T080000
DTEND;TZID=America/New_York:20260618T170000
DTSTAMP:20260420T145840
CREATED:20251013T210411Z
LAST-MODIFIED:20251013T210411Z
UID:10000345-1781769600-1781802000@www.bcnh.org
SUMMARY:Northern Council Meeting\, TBD
DESCRIPTION:This event is in the planning stages. Meeting place/ time to be determined. More information will be posted when it is available.
URL:https://www.bcnh.org/event/northern-council-meeting-tbd/
CATEGORIES:BCNH Events
END:VEVENT
BEGIN:VEVENT
DTSTART;TZID=America/New_York:20260620T120000
DTEND;TZID=America/New_York:20260620T170000
DTSTAMP:20260420T145840
CREATED:20251006T233413Z
LAST-MODIFIED:20251006T233413Z
UID:10000342-1781956800-1781974800@www.bcnh.org
SUMMARY:BCNH Birthday Party\, Deerfield NH
DESCRIPTION:This event is in the planning stages. More information will be posted when it is available.
URL:https://www.bcnh.org/event/bcnh-birthday-party-deerfield-nh/
CATEGORIES:BCNH Events
END:VEVENT
END:VCALENDAR