BEGIN:VCALENDAR
VERSION:2.0
PRODID:-//British Cars of New Hampshire - ECPv6.15.20//NONSGML v1.0//EN
CALSCALE:GREGORIAN
METHOD:PUBLISH
X-ORIGINAL-URL:https://www.bcnh.org
X-WR-CALDESC:Events for British Cars of New Hampshire
REFRESH-INTERVAL;VALUE=DURATION:PT1H
X-Robots-Tag:noindex
X-PUBLISHED-TTL:PT1H
BEGIN:VTIMEZONE
TZID:America/New_York
BEGIN:DAYLIGHT
TZOFFSETFROM:-0500
TZOFFSETTO:-0400
TZNAME:EDT
DTSTART:20250309T070000
END:DAYLIGHT
BEGIN:STANDARD
TZOFFSETFROM:-0400
TZOFFSETTO:-0500
TZNAME:EST
DTSTART:20251102T060000
END:STANDARD
BEGIN:DAYLIGHT
TZOFFSETFROM:-0500
TZOFFSETTO:-0400
TZNAME:EDT
DTSTART:20260308T070000
END:DAYLIGHT
BEGIN:STANDARD
TZOFFSETFROM:-0400
TZOFFSETTO:-0500
TZNAME:EST
DTSTART:20261101T060000
END:STANDARD
BEGIN:DAYLIGHT
TZOFFSETFROM:-0500
TZOFFSETTO:-0400
TZNAME:EDT
DTSTART:20270314T070000
END:DAYLIGHT
BEGIN:STANDARD
TZOFFSETFROM:-0400
TZOFFSETTO:-0500
TZNAME:EST
DTSTART:20271107T060000
END:STANDARD
END:VTIMEZONE
BEGIN:VEVENT
DTSTART;TZID=America/New_York:20260607T100000
DTEND;TZID=America/New_York:20260607T160000
DTSTAMP:20260420T162740
CREATED:20230103T000900Z
LAST-MODIFIED:20260409T002658Z
UID:10000102-1780826400-1780848000@www.bcnh.org
SUMMARY:British By The Sea
DESCRIPTION:This years Marque will be Aston Martin.
URL:https://www.bcnh.org/event/british-by-the-sea/
CATEGORIES:BCNH Events
END:VEVENT
BEGIN:VEVENT
DTSTART;TZID=America/New_York:20260610T180000
DTEND;TZID=America/New_York:20260610T200000
DTSTAMP:20260420T162740
CREATED:20251021T140329Z
LAST-MODIFIED:20251024T231436Z
UID:10000351-1781114400-1781121600@www.bcnh.org
SUMMARY:Seacoast Council Meeting
DESCRIPTION:The Office Lounge Dovah\, 21 Third St\, Dover\, N.H. \nThere’s a metered lot right behind the restaurant and Dale Dean has arranged for us to park for free in the Ross Furniture lot on Second Street. \nThe meeting time is 6 p.m. for food and drinks\, The official meeting begins at 7. Non-members are always welcome.
URL:https://www.bcnh.org/event/seacoast-council-meeting-7/
CATEGORIES:BCNH Events
ORGANIZER;CN="NORM MICHAELS":MAILTO:NHMICHAELS@AOL.COM
END:VEVENT
BEGIN:VEVENT
DTSTART;TZID=America/New_York:20260612T100000
DTEND;TZID=America/New_York:20260613T150000
DTSTAMP:20260420T162740
CREATED:20251221T215745Z
LAST-MODIFIED:20260409T003022Z
UID:10000369-1781258400-1781362800@www.bcnh.org
SUMMARY:British Motorcars In Bristol RI
DESCRIPTION:On June 12th & 13th the BMCNE will kick off its Annual British Motorcars in Bristol car show that includes a scenic tour around Southern New England\, hosting a block party in downtown Bristol\, and a public Car Show in an effort to raise money for local charities through car show registrations\, vendor booths\, area sales\, and sponsorships. \nThe events are FREE for visitors. Bring your family and friends for an entertaining day of historic British cars\, vendors and the beautiful sites of Narragansett Bay. There will be a British Car Corral\, British Marketplace & Auto Jumble\, and Food & Beverage Concessions are all open.
URL:https://www.bcnh.org/event/british-motorcars-in-bristol-ri/
CATEGORIES:BCNH Events
END:VEVENT
END:VCALENDAR