BEGIN:VCALENDAR
VERSION:2.0
PRODID:-//British Cars of New Hampshire - ECPv6.15.20//NONSGML v1.0//EN
CALSCALE:GREGORIAN
METHOD:PUBLISH
X-WR-CALNAME:British Cars of New Hampshire
X-ORIGINAL-URL:https://www.bcnh.org
X-WR-CALDESC:Events for British Cars of New Hampshire
REFRESH-INTERVAL;VALUE=DURATION:PT1H
X-Robots-Tag:noindex
X-PUBLISHED-TTL:PT1H
BEGIN:VTIMEZONE
TZID:America/New_York
BEGIN:DAYLIGHT
TZOFFSETFROM:-0500
TZOFFSETTO:-0400
TZNAME:EDT
DTSTART:20240310T070000
END:DAYLIGHT
BEGIN:STANDARD
TZOFFSETFROM:-0400
TZOFFSETTO:-0500
TZNAME:EST
DTSTART:20241103T060000
END:STANDARD
BEGIN:DAYLIGHT
TZOFFSETFROM:-0500
TZOFFSETTO:-0400
TZNAME:EDT
DTSTART:20250309T070000
END:DAYLIGHT
BEGIN:STANDARD
TZOFFSETFROM:-0400
TZOFFSETTO:-0500
TZNAME:EST
DTSTART:20251102T060000
END:STANDARD
BEGIN:DAYLIGHT
TZOFFSETFROM:-0500
TZOFFSETTO:-0400
TZNAME:EDT
DTSTART:20260308T070000
END:DAYLIGHT
BEGIN:STANDARD
TZOFFSETFROM:-0400
TZOFFSETTO:-0500
TZNAME:EST
DTSTART:20261101T060000
END:STANDARD
BEGIN:DAYLIGHT
TZOFFSETFROM:-0500
TZOFFSETTO:-0400
TZNAME:EDT
DTSTART:20270314T070000
END:DAYLIGHT
BEGIN:STANDARD
TZOFFSETFROM:-0400
TZOFFSETTO:-0500
TZNAME:EST
DTSTART:20271107T060000
END:STANDARD
END:VTIMEZONE
BEGIN:VEVENT
DTSTART;TZID=America/New_York:20260502T110000
DTEND;TZID=America/New_York:20260502T113000
DTSTAMP:20260420T202721
CREATED:20260224T145113Z
LAST-MODIFIED:20260224T145113Z
UID:10000382-1777719600-1777721400@www.bcnh.org
SUMMARY:Blessing of the Fleet\, Epping\, NH
DESCRIPTION:Blessing of the Fleet at the Holy Grail Restaurant in Epping on the 1st Saturday of May (May 2.)\n\nSee: https://www.holygrailrestaurantandpub.com/\n\nWe will meet in the Holy Grail Parking Lot at 11:00 and The Reverend Mark Pendleton from the Christ Church in Exeter will perform appropriate Rites for the Blessing of the Fleet – and sprinkle a little Holy Water on each of the cars.\n\n(We will “Pass the Hat” for a “Collection” to be presented to Rev Pendleton as an honorarium.)\n\nAt 11:30\, when the Doors Open at the Restaurant\, we will file in and go up to the Choir Loft for Brunch/Lunch there.\n\n\nRobert B Mitchell\nBritish Cars of NH\nrbmit-mm@comcast.net\n603-770-8663 (Cell)
URL:https://www.bcnh.org/event/blessing-of-the-fleet-epping-nh/
CATEGORIES:BCNH Events
END:VEVENT
BEGIN:VEVENT
DTSTART;TZID=America/New_York:20260425T090000
DTEND;TZID=America/New_York:20260425T120000
DTSTAMP:20260420T202721
CREATED:20260217T011102Z
LAST-MODIFIED:20260217T011102Z
UID:10000379-1777107600-1777118400@www.bcnh.org
SUMMARY:Open House and Tech Session\, Fitzwilliam\, NH
DESCRIPTION:Open House & Tech Session \nSaturday – April 25th\, 2026 \n9AM to Whenever\nBritish Body and Coachworks\nSummit 2026 Event Sponsor\n11 NH Rt. 119W\, Fitzwilliam\, NH\nwww.britishbodyandcoachworks.com \nJoin Mark LeBlanc for an Open House and Tech Session the do’s and\ndon’ts of winter storage. Please RSVP Mark at ceispars@yahoo.com\nWe have a number of cars in process to see. An opportunity to see \nfriends and cars. Refreshments will be served.
URL:https://www.bcnh.org/event/open-house-and-tech-session-fitzwilliam-nh/
CATEGORIES:BCNH Events
END:VEVENT
BEGIN:VEVENT
DTSTART;TZID=America/New_York:20260425T090000
DTEND;TZID=America/New_York:20260425T120000
DTSTAMP:20260420T202721
CREATED:20260113T142358Z
LAST-MODIFIED:20260330T211002Z
UID:10000372-1777107600-1777118400@www.bcnh.org
SUMMARY:Tech Session\, Auburn\, NH
DESCRIPTION:9am @ Zimmlitt Motoring Co\n\n\n\n\n20 Commercial Court\nAuburn\, NH\n\n\n\n\n \nApril 25 – Headlight adjustments.
URL:https://www.bcnh.org/event/tech-session-bedford-nh-3/
CATEGORIES:BCNH Events
END:VEVENT
BEGIN:VEVENT
DTSTART;TZID=America/New_York:20260421T180000
DTEND;TZID=America/New_York:20260421T200000
DTSTAMP:20260420T202721
CREATED:20221221T184150Z
LAST-MODIFIED:20251015T233830Z
UID:10000094-1776794400-1776801600@www.bcnh.org
SUMMARY:Monadnock Council Meeting
DESCRIPTION:Meet upstairs at 6 pm if you want to eat and socialize. The meeting will be downstairs at 7 pm. Non-members are welcome. Dublin Road Taproom and Eatery\, Shattuck Golf Course\, 53 Dublin Rd\, Jaffrey NH.
URL:https://www.bcnh.org/event/monadnock-council-meeting-15/
LOCATION:Dublin Road Taproom & Eatery\, 53 Dublin Road\, Jaffrey\, NH\, 03452
CATEGORIES:BCNH Events
END:VEVENT
BEGIN:VEVENT
DTSTART;TZID=America/New_York:20260416T180000
DTEND;TZID=America/New_York:20260416T200000
DTSTAMP:20260420T202721
CREATED:20221221T184822Z
LAST-MODIFIED:20251112T010411Z
UID:10000096-1776362400-1776369600@www.bcnh.org
SUMMARY:North Council Meeting
DESCRIPTION:Meetings start at 7:00 pm\, arrive at 6:00 pm if you wish to eat and socialize. Non-members are welcome to attend. \nPlease remember to RSVP to Kellie\, Kabraconier5@gmail.com if you plan to attend.  We have to give an accurate\nheadcount to the Homestead.\nThe Homestead Restaurant\, 1567 Summer Street\, Bristol NH .
URL:https://www.bcnh.org/event/north-council-meeting-15/
LOCATION:The Homestead Restaurant\, 1567 Summer Street\, Bristol\, NH\, 03222
CATEGORIES:BCNH Events
END:VEVENT
BEGIN:VEVENT
DTSTART;TZID=America/New_York:20260415T180000
DTEND;TZID=America/New_York:20260415T200000
DTSTAMP:20260420T202721
CREATED:20251015T233956Z
LAST-MODIFIED:20260401T104237Z
UID:10000349-1776276000-1776283200@www.bcnh.org
SUMMARY:Seacoast Council Meeting\, New Date
DESCRIPTION:The Office Lounge Dovah\, 21 Third St\, Dover\, N.H. \nThere’s a metered lot right behind the restaurant and Dale Dean has arranged for us to park for free in the Ross Furniture lot on Second Street. \nThe meeting time is 6 p.m. for food and drinks\, The official meeting begins at 7. Non-members are always welcome.
URL:https://www.bcnh.org/event/seacoast-council-meeting-4/
CATEGORIES:BCNH Events
ORGANIZER;CN="NORM MICHAELS":MAILTO:NHMICHAELS@AOL.COM
END:VEVENT
BEGIN:VEVENT
DTSTART;TZID=America/New_York:20260408T060000
DTEND;TZID=America/New_York:20260408T200000
DTSTAMP:20260420T202721
CREATED:20260404T125225Z
LAST-MODIFIED:20260404T125225Z
UID:10000387-1775628000-1775678400@www.bcnh.org
SUMMARY:Seacoast Meeting\, Please Note Date Change
DESCRIPTION:This month’s meeting has been changed to April 15th. \n 
URL:https://www.bcnh.org/event/seacoast-meeting-please-note-date-change/
CATEGORIES:BCNH Events
END:VEVENT
BEGIN:VEVENT
DTSTART;TZID=America/New_York:20260406T180000
DTEND;TZID=America/New_York:20260406T200000
DTSTAMP:20260420T202721
CREATED:20221221T183508Z
LAST-MODIFIED:20251015T233658Z
UID:10000191-1775498400-1775505600@www.bcnh.org
SUMMARY:Southern Council Meeting
DESCRIPTION:Meeting starts at 7:00 pm.  Arrive at 6:00 pm if you wish to eat and socialize. Non-members are always welcome. \nMoe Joe’s Family Restaurant\, 2175 Candia Road\, Manchester\, NH.
URL:https://www.bcnh.org/event/southern-council-meeting-16/
LOCATION:Moe Joe’s Family Restaurant\, 2175 Candia Road\, Manchester\, NH\, 03104
CATEGORIES:BCNH Events
ORGANIZER;CN="Mike Sweet":MAILTO:coventrycat71@comcast.net
END:VEVENT
BEGIN:VEVENT
DTSTART;TZID=America/New_York:20260322T130000
DTEND;TZID=America/New_York:20260322T150000
DTSTAMP:20260420T202721
CREATED:20260217T011727Z
LAST-MODIFIED:20260220T212818Z
UID:10000380-1774184400-1774191600@www.bcnh.org
SUMMARY:Movie Matinee\, Atkinson\, NH
DESCRIPTION:Sunday March 22nd. Movie starts around 2. Popcorn and Soft drinks will be provided. BYFC (Bring Your Folding Chair). The movie will be “Ford vs Ferrari”. Please RSVP John at 603-329-6161 or Tritriple@aol.com if you plan to attend.\n \nJohn Bowe’s Barn\n13 Willow Vale\nAtkinson\, NH
URL:https://www.bcnh.org/event/movie-matinee-atkinson-nh/
CATEGORIES:BCNH Events
END:VEVENT
BEGIN:VEVENT
DTSTART;TZID=America/New_York:20260321T090000
DTEND;TZID=America/New_York:20260321T120000
DTSTAMP:20260420T202721
CREATED:20260113T142200Z
LAST-MODIFIED:20260113T142200Z
UID:10000371-1774083600-1774094400@www.bcnh.org
SUMMARY:Tech Session\, Bedford NH
DESCRIPTION:9am @ Zimmlitt Motoring Co.\, 86 Bedford Center Road\, Bedford \, NH\n \n \nMarch 21 – general maintenance (general overview with points\, plugs\, carbs\, air filters etc.) As always\, we can dive deeper into topics depending on the interest of the attendees. \n 
URL:https://www.bcnh.org/event/tech-session-bedford-nh-2/
CATEGORIES:BCNH Events
END:VEVENT
BEGIN:VEVENT
DTSTART;TZID=America/New_York:20260319T180000
DTEND;TZID=America/New_York:20260319T200000
DTSTAMP:20260420T202721
CREATED:20221212T204557Z
LAST-MODIFIED:20251112T010319Z
UID:10000188-1773943200-1773950400@www.bcnh.org
SUMMARY:North Council Meeting
DESCRIPTION:Meetings start at 7:00 pm\, arrive at 6:00 pm if you wish to eat and socialize. Non-members are welcome to attend. \nPlease remember to RSVP to Kellie\, Kabraconier5@gmail.com if you plan to attend.  We have to give an accurate\nheadcount to the Homestead.\nThe Homestead Restaurant\, 1567 Summer Street\, Bristol NH .
URL:https://www.bcnh.org/event/north-council-meeting-12/
LOCATION:The Homestead Restaurant\, 1567 Summer Street\, Bristol\, NH\, 03222
CATEGORIES:BCNH Events
END:VEVENT
BEGIN:VEVENT
DTSTART;TZID=America/New_York:20260315T120000
DTEND;TZID=America/New_York:20260315T140000
DTSTAMP:20260420T202721
CREATED:20251023T205635Z
LAST-MODIFIED:20260220T023237Z
UID:10000352-1773576000-1773583200@www.bcnh.org
SUMMARY:Monadnock Council Meeting\, Different Day/Time this Month
DESCRIPTION:Meeting starts at 1:00 pm.  Arrive at 12:00 pm if you wish to eat and socialize. Non-members are always welcome.
URL:https://www.bcnh.org/event/monadnock-council-meeting-different-day-time-this-month/
LOCATION:Dublin Road Taproom & Eatery\, 53 Dublin Road\, Jaffrey\, NH\, 03452
CATEGORIES:BCNH Events
END:VEVENT
BEGIN:VEVENT
DTSTART;TZID=America/New_York:20260311T180000
DTEND;TZID=America/New_York:20260311T200000
DTSTAMP:20260420T202721
CREATED:20251015T211134Z
LAST-MODIFIED:20251031T201154Z
UID:10000348-1773252000-1773259200@www.bcnh.org
SUMMARY:Seacoast Council Meeting
DESCRIPTION:The Office Lounge Dovah\, 21 Third St\, Dover\, N.H. \nThere’s a metered lot right behind the restaurant and Dale Dean has arranged for us to park for free in the Ross Furniture lot on Second Street. \nThe meeting time is 6 p.m. for food and drinks\, The official meeting begins at 7. Non-members are always welcome.
URL:https://www.bcnh.org/event/seacoast-council-meeting-3/
CATEGORIES:BCNH Events
ORGANIZER;CN="NORM MICHAELS":MAILTO:NHMICHAELS@AOL.COM
END:VEVENT
BEGIN:VEVENT
DTSTART;TZID=America/New_York:20260302T180000
DTEND;TZID=America/New_York:20260302T200000
DTSTAMP:20260420T202721
CREATED:20221206T183147Z
LAST-MODIFIED:20251006T135550Z
UID:10000185-1772474400-1772481600@www.bcnh.org
SUMMARY:Southern Council Meeting
DESCRIPTION:Meeting starts at 7:00 pm.  Arrive at 6:00 pm if you wish to eat and socialize. Non-members are always welcome. \nMoe Joe’s Family Restaurant\, 2175 Candia Road\, Manchester\, NH
URL:https://www.bcnh.org/event/southern-council-meeting-15/
LOCATION:Moe Joe’s Family Restaurant\, 2175 Candia Road\, Manchester\, NH\, 03104
CATEGORIES:BCNH Events
ORGANIZER;CN="Mike Sweet":MAILTO:coventrycat71@comcast.net
END:VEVENT
BEGIN:VEVENT
DTSTART;TZID=America/New_York:20260228T090000
DTEND;TZID=America/New_York:20260228T120000
DTSTAMP:20260420T202721
CREATED:20260113T142019Z
LAST-MODIFIED:20260113T142019Z
UID:10000370-1772269200-1772280000@www.bcnh.org
SUMMARY:Tech Session\, Bedford NH
DESCRIPTION:9am @ Zimmlitt Motoring Co.\, 86 Bedford Center Road\, Bedford \, NH\n \n \nFeb 28 – Jaguar E-type electrical system.\n 
URL:https://www.bcnh.org/event/tech-session-bedford-nh/
CATEGORIES:BCNH Events
END:VEVENT
BEGIN:VEVENT
DTSTART;TZID=America/New_York:20260221T090000
DTEND;TZID=America/New_York:20260221T230000
DTSTAMP:20260420T202721
CREATED:20260131T155847Z
LAST-MODIFIED:20260216T211815Z
UID:10000373-1771664400-1771714800@www.bcnh.org
SUMMARY:Cars and Coffee\, Deerfield\, NH
DESCRIPTION:February 21st\n\nWe will have the owner of precision machine and balance on site for any engine/machining questions\, as well as a local paint shop owner.\n9am – 11am\n\n\n\nBritish Car Repairs\n58 Church Street\n\n\n\nDeerfield\,  NH\n\n\nSteve Banner: 858-231- 083
URL:https://www.bcnh.org/event/tech-session-deerfield-nh/
CATEGORIES:BCNH Events
END:VEVENT
BEGIN:VEVENT
DTSTART;TZID=America/New_York:20260219T180000
DTEND;TZID=America/New_York:20260219T200000
DTSTAMP:20260420T202721
CREATED:20221117T141727Z
LAST-MODIFIED:20251112T010224Z
UID:10000180-1771524000-1771531200@www.bcnh.org
SUMMARY:North Council Meeting
DESCRIPTION:Meeting starts at 7:00 pm. Arrive around 6:00 pm if you plan to eat and socialize. Non-members are always welcome to attend.\n\nPlease remember to RSVP to Kellie\, Kabraconier5@gmail.com if you plan to attend.  We have to give an accurate\nheadcount to the Homestead.\n\nThe Homestead Restaurant.\n1567 Summer Street \,\nBristol\, NH
URL:https://www.bcnh.org/event/north-council-meeting-14/
LOCATION:The Homestead Restaurant\, 1567 Summer Street\, Bristol\, NH\, 03222
CATEGORIES:BCNH Events
END:VEVENT
BEGIN:VEVENT
DTSTART;TZID=America/New_York:20260217T170000
DTEND;TZID=America/New_York:20260217T190000
DTSTAMP:20260420T202721
CREATED:20221116T182545Z
LAST-MODIFIED:20251015T001029Z
UID:10000176-1771347600-1771354800@www.bcnh.org
SUMMARY:Monadnock Council Meeting\, Winter Hours
DESCRIPTION:Meet upstairs at 5 pm if you want to eat and socialize. The meeting will be downstairs at 6 pm. Non-members are welcome. Dublin Road Taproom and Eatery\, Shattuck Golf Course\, 53 Dublin Rd\, Jaffrey NH.
URL:https://www.bcnh.org/event/monadnock-council-meeting-12/
LOCATION:Dublin Road Taproom & Eatery\, 53 Dublin Road\, Jaffrey\, NH\, 03452
CATEGORIES:BCNH Events
END:VEVENT
BEGIN:VEVENT
DTSTART;TZID=America/New_York:20260211T060000
DTEND;TZID=America/New_York:20260211T200000
DTSTAMP:20260420T202721
CREATED:20251015T155550Z
LAST-MODIFIED:20251024T230759Z
UID:10000347-1770789600-1770840000@www.bcnh.org
SUMMARY:Seacoast Council Meeting
DESCRIPTION:The Office Lounge Dovah\, 21 Third St\, Dover\, N.H. \nThere’s a metered lot right behind the restaurant and Dale Dean has arranged for us to park for free in the Ross Furniture lot on Second Street. \nThe meeting time is 6 p.m. for food and drinks\, The official meeting begins at 7. Non-members are always welcome.
URL:https://www.bcnh.org/event/seacoast-council-meeting-2/
CATEGORIES:BCNH Events
ORGANIZER;CN="NORM MICHAELS":MAILTO:NHMICHAELS@AOL.COM
END:VEVENT
BEGIN:VEVENT
DTSTART;TZID=America/New_York:20260202T180000
DTEND;TZID=America/New_York:20260202T200000
DTSTAMP:20260420T202721
CREATED:20221117T140634Z
LAST-MODIFIED:20251015T155248Z
UID:10000178-1770055200-1770062400@www.bcnh.org
SUMMARY:Southern Council Meeting
DESCRIPTION:Meeting starts at 7:00 pm.  Arrive at 6:00 pm if you wish to eat and socialize. Non-members are always welcome.\nMoe Joe’s Family Restaurant\,\n2175 Candia Road\,\nManchester\, NH
URL:https://www.bcnh.org/event/southern-council-meeting-14/
LOCATION:Moe Joe’s Family Restaurant\, 2175 Candia Road\, Manchester\, NH\, 03104
CATEGORIES:BCNH Events
ORGANIZER;CN="Mike Sweet":MAILTO:coventrycat71@comcast.net
END:VEVENT
BEGIN:VEVENT
DTSTART;TZID=America/New_York:20260124T090000
DTEND;TZID=America/New_York:20260124T120000
DTSTAMP:20260420T202721
CREATED:20251216T135745Z
LAST-MODIFIED:20251216T135745Z
UID:10000367-1769245200-1769256000@www.bcnh.org
SUMMARY:Cars and Coffee\, Fitzwilliam NH
DESCRIPTION:British Body and Coachworks Saturday January 24 2026\n11 NH. Rt. 119 West 9 am till whenever\nFitzwilliam\, NH. 03447\n978 320 9435\n-Cars and Coffee- \nWe have a number of cars in process to see.\nAn opportunity to see friends and cars Refreshments will be\nserved. Mark LeBlanc
URL:https://www.bcnh.org/event/cars-and-coffee-fitzwilliam-nh/
CATEGORIES:BCNH Events
END:VEVENT
BEGIN:VEVENT
DTSTART;TZID=America/New_York:20260120T180000
DTEND;TZID=America/New_York:20260120T200000
DTSTAMP:20260420T202721
CREATED:20241016T142743Z
LAST-MODIFIED:20251015T000729Z
UID:10000290-1768932000-1768939200@www.bcnh.org
SUMMARY:Monadnock Council Meeting\, No Meeting this month
DESCRIPTION:Meetings will resume in February.
URL:https://www.bcnh.org/event/monadnock-council-meeting-no-meeting-this-month/
CATEGORIES:BCNH Events
END:VEVENT
BEGIN:VEVENT
DTSTART;TZID=America/New_York:20260115T180000
DTEND;TZID=America/New_York:20260115T200000
DTSTAMP:20260420T202721
CREATED:20221117T141421Z
LAST-MODIFIED:20251112T010135Z
UID:10000179-1768500000-1768507200@www.bcnh.org
SUMMARY:North Council Meeting
DESCRIPTION:The meeting starts at 7:00 pm. Arrive around 6:00 pm if you plan to eat and socialize. Non-members are always welcome to attend.\n\nPlease remember to RSVP to Kellie\, Kabraconier5@gmail.com if you plan to attend.  We have to give an accurate\nheadcount to the Homestead.\n\n\nThe Homestead Restaurant.\n1567 Summer Street \,\nBristol\, NH
URL:https://www.bcnh.org/event/north-council-meeting-13/
LOCATION:The Homestead Restaurant\, 1567 Summer Street\, Bristol\, NH\, 03222
CATEGORIES:BCNH Events
END:VEVENT
BEGIN:VEVENT
DTSTART;TZID=America/New_York:20260114T060000
DTEND;TZID=America/New_York:20260114T200000
DTSTAMP:20260420T202721
CREATED:20251015T000630Z
LAST-MODIFIED:20251024T230709Z
UID:10000346-1768370400-1768420800@www.bcnh.org
SUMMARY:Seacoast Council Meeting
DESCRIPTION:The Office Lounge Dovah\, 21 Third St\, Dover\, N.H. \nThere’s a metered lot right behind the restaurant and Dale Dean has arranged for us to park for free in the Ross Furniture lot on Second Street. \nThe meeting time is 6 p.m. for food and drinks\, The official meeting begins at 7. Non-members are always welcome.
URL:https://www.bcnh.org/event/seacoast-council-meeting/
CATEGORIES:BCNH Events
ORGANIZER;CN="NORM MICHAELS":MAILTO:NHMICHAELS@AOL.COM
END:VEVENT
BEGIN:VEVENT
DTSTART;TZID=America/New_York:20260105T180000
DTEND;TZID=America/New_York:20260105T200000
DTSTAMP:20260420T202721
CREATED:20221116T181835Z
LAST-MODIFIED:20260105T153012Z
UID:10000175-1767636000-1767643200@www.bcnh.org
SUMMARY:Southern Council Meeting\, Cancelled
DESCRIPTION:There’s nothing quite as fun as ringing in the New Year\, but sometime after that the Palace was hit with something that has given Deb and I awful colds which are still persisting.\n \nTherefore\, tonight’s Southern Council meeting at Moe Joe’s is cancelled. My apologies for any inconvenience this causes. See you in February!
URL:https://www.bcnh.org/event/southern-council-meeting-13/
LOCATION:Moe Joe’s Family Restaurant\, 2175 Candia Road\, Manchester\, NH\, 03104
CATEGORIES:BCNH Events
ORGANIZER;CN="Mike Sweet":MAILTO:coventrycat71@comcast.net
END:VEVENT
BEGIN:VEVENT
DTSTART;TZID=America/New_York:20251216T190000
DTEND;TZID=America/New_York:20251216T200000
DTSTAMP:20260420T202721
CREATED:20241109T163503Z
LAST-MODIFIED:20250411T184144Z
UID:10000293-1765911600-1765915200@www.bcnh.org
SUMMARY:Monadnock Council Meeting\, No Meeting This Month
DESCRIPTION:Meetings will resume in February
URL:https://www.bcnh.org/event/monadnock-council-meeting-no-meeting-this-month-2/
CATEGORIES:BCNH Events
END:VEVENT
BEGIN:VEVENT
DTSTART;TZID=America/New_York:20251207T120000
DTEND;TZID=America/New_York:20251207T160000
DTSTAMP:20260420T202721
CREATED:20211229T174049Z
LAST-MODIFIED:20250909T185022Z
UID:10000145-1765108800-1765123200@www.bcnh.org
SUMMARY:Seacoast Council Christmas Party
DESCRIPTION:The Seacoast chapter will be hosting a Holiday Party lunch on 12/7/25 at the Oak Street Bistro\, Alfred\, Maine\, beginning at 12:00 noon. Please bring an unwrapped gift for Toys for Tots. Each year we seek to fill an MG boot….
URL:https://www.bcnh.org/event/seacoast-council-meeting-8/
LOCATION:OAK STREET BISTRO\, 3 Oak Street\, Alfred\, ME\, 04002\, United States
CATEGORIES:BCNH Events
ORGANIZER;CN="NORM MICHAELS":MAILTO:NHMICHAELS@AOL.COM
END:VEVENT
BEGIN:VEVENT
DTSTART;TZID=America/New_York:20251201T180000
DTEND;TZID=America/New_York:20251201T200000
DTSTAMP:20260420T202721
CREATED:20211216T191040Z
LAST-MODIFIED:20251015T000012Z
UID:10000144-1764612000-1764619200@www.bcnh.org
SUMMARY:Southern Council Meeting
DESCRIPTION:Meeting starts at 7:00 pm.  Arrive at 6:00 pm if you wish to eat and socialize. Non-members are always welcome.\nMoe Joe’s Family Restaurant   Please remember to bring a new\, unwrapped toy for  the Toys for Tots program.\n2175 Candia Road\,\nManchester\, NH
URL:https://www.bcnh.org/event/southern-council-meeting-12/
LOCATION:Moe Joe’s Family Restaurant\, 2175 Candia Road\, Manchester\, NH\, 03104
CATEGORIES:BCNH Events
ORGANIZER;CN="Mike Sweet":MAILTO:coventrycat71@comcast.net
END:VEVENT
BEGIN:VEVENT
DTSTART;TZID=America/New_York:20251120T180000
DTEND;TZID=America/New_York:20251120T200000
DTSTAMP:20260420T202721
CREATED:20211130T165842Z
LAST-MODIFIED:20251112T151655Z
UID:10000126-1763661600-1763668800@www.bcnh.org
SUMMARY:North Council Meeting
DESCRIPTION: \n\n\nThe meeting starts at 7:00 pm. Arrive around 6:00 pm if you plan to eat and socialize. Non-members are always welcome to attend. The Homestead Restaurant. 1567 Summer Street \, Bristol\, NH \nPlease remember to RSVP to Kellie\, Kabraconier5@gmail.com if you plan to attend.  We have to give an accurate\nheadcount to the Homestead.\n 
URL:https://www.bcnh.org/event/north-council-meeting-9/
LOCATION:The Homestead Restaurant\, 1567 Summer Street\, Bristol\, NH\, 03222
CATEGORIES:BCNH Events
END:VEVENT
BEGIN:VEVENT
DTSTART;TZID=America/New_York:20251118T180000
DTEND;TZID=America/New_York:20251118T200000
DTSTAMP:20260420T202721
CREATED:20211216T185808Z
LAST-MODIFIED:20241211T221056Z
UID:10000142-1763488800-1763496000@www.bcnh.org
SUMMARY:Monadnock Council Meeting\, no meeting this month
DESCRIPTION:No meeting in November. Meetings will resume in January.
URL:https://www.bcnh.org/event/monadnock-council-meeting-10/
CATEGORIES:BCNH Events,Monadnock
ORGANIZER;CN="Brian Tilton":MAILTO:bptilt@myfairpoint.net
END:VEVENT
END:VCALENDAR