BEGIN:VCALENDAR
VERSION:2.0
PRODID:-//British Cars of New Hampshire - ECPv6.15.20//NONSGML v1.0//EN
CALSCALE:GREGORIAN
METHOD:PUBLISH
X-WR-CALNAME:British Cars of New Hampshire
X-ORIGINAL-URL:https://www.bcnh.org
X-WR-CALDESC:Events for British Cars of New Hampshire
REFRESH-INTERVAL;VALUE=DURATION:PT1H
X-Robots-Tag:noindex
X-PUBLISHED-TTL:PT1H
BEGIN:VTIMEZONE
TZID:America/New_York
BEGIN:DAYLIGHT
TZOFFSETFROM:-0500
TZOFFSETTO:-0400
TZNAME:EDT
DTSTART:20230312T070000
END:DAYLIGHT
BEGIN:STANDARD
TZOFFSETFROM:-0400
TZOFFSETTO:-0500
TZNAME:EST
DTSTART:20231105T060000
END:STANDARD
BEGIN:DAYLIGHT
TZOFFSETFROM:-0500
TZOFFSETTO:-0400
TZNAME:EDT
DTSTART:20240310T070000
END:DAYLIGHT
BEGIN:STANDARD
TZOFFSETFROM:-0400
TZOFFSETTO:-0500
TZNAME:EST
DTSTART:20241103T060000
END:STANDARD
BEGIN:DAYLIGHT
TZOFFSETFROM:-0500
TZOFFSETTO:-0400
TZNAME:EDT
DTSTART:20250309T070000
END:DAYLIGHT
BEGIN:STANDARD
TZOFFSETFROM:-0400
TZOFFSETTO:-0500
TZNAME:EST
DTSTART:20251102T060000
END:STANDARD
BEGIN:DAYLIGHT
TZOFFSETFROM:-0500
TZOFFSETTO:-0400
TZNAME:EDT
DTSTART:20260308T070000
END:DAYLIGHT
BEGIN:STANDARD
TZOFFSETFROM:-0400
TZOFFSETTO:-0500
TZNAME:EST
DTSTART:20261101T060000
END:STANDARD
END:VTIMEZONE
BEGIN:VEVENT
DTSTART;TZID=America/New_York:20250621T110000
DTEND;TZID=America/New_York:20250621T120000
DTSTAMP:20260421T021415
CREATED:20250604T140841Z
LAST-MODIFIED:20250604T140841Z
UID:10000324-1750503600-1750507200@www.bcnh.org
SUMMARY:Show of Dreams Meeting\, Deerfield\, NH
DESCRIPTION:Next SOD Meeting Date: Saturday\, June 21\, 2025. Time: 11 am (one hour before the start of the\nclub birthday party) at the home of Elliot More and Jaimee Walters\, 58 Church St. Deerfield\,\nNH.
URL:https://www.bcnh.org/event/show-of-dreams-meeting-deerfield-nh/
CATEGORIES:BCNH Events
END:VEVENT
BEGIN:VEVENT
DTSTART;TZID=America/New_York:20250612T180000
DTEND;TZID=America/New_York:20250612T210000
DTSTAMP:20260421T021415
CREATED:20230105T182625Z
LAST-MODIFIED:20241107T214619Z
UID:10000112-1749751200-1749762000@www.bcnh.org
SUMMARY:Seacoast Council Meeting
DESCRIPTION:Arrive at 6 p.m. for food and greetings\,  Meeting starts at 7:00 p.m. Non-members are always welcome. Hebert’s Restaurant\, in the shopping plaza at 1500 Lafayette Rd (RT. 1)\, Portsmouth\, NH. \n 
URL:https://www.bcnh.org/event/seacoast-council-meeting-13/
CATEGORIES:BCNH Events
ORGANIZER;CN="NORM MICHAELS":MAILTO:NHMICHAELS@AOL.COM
END:VEVENT
BEGIN:VEVENT
DTSTART;TZID=America/New_York:20250608T090000
DTEND;TZID=America/New_York:20250608T150000
DTSTAMP:20260421T021415
CREATED:20241130T232409Z
LAST-MODIFIED:20250507T153125Z
UID:10000298-1749373200-1749394800@www.bcnh.org
SUMMARY:Bay State Motor Festival\, Framingham MA
DESCRIPTION:Preregister on line\, $25. Registration the day of the show\, $30. \nAwards at 2:00pm. \nSpectator Parking is free \nBCNH has a club space reserved \nhttps://baystatemotorfestival.com/ \n 
URL:https://www.bcnh.org/event/bay-state-motor-festival-framingham-ma/
CATEGORIES:BCNH Events
END:VEVENT
BEGIN:VEVENT
DTSTART;TZID=America/New_York:20250606T090000
DTEND;TZID=America/New_York:20250607T170000
DTSTAMP:20260421T021415
CREATED:20230103T204746Z
LAST-MODIFIED:20250501T124358Z
UID:10000104-1749200400-1749315600@www.bcnh.org
SUMMARY:British Motorcars in Bristol RI
DESCRIPTION:The BMCNE will kick off it’s Annual British Motorcars in Bristol\, RI car show that includes a scenic tour around Southern New England\, hosting a block party in downtown Bristol\, and a public Car Show in an effort to raise money for local charities through car show registrations\, vendor booths\, area sales\, and sponsorships. \nIf you are thinking of going to this event\, email me and I will get you in touch with others who are also thinking of going. Sue MacDuff\, Lucymac603@gmail.com \n 
URL:https://www.bcnh.org/event/british-motorcars-in-bristol-ri-3/
CATEGORIES:BCNH Events
END:VEVENT
BEGIN:VEVENT
DTSTART;TZID=America/New_York:20250410T180000
DTEND;TZID=America/New_York:20250410T200000
DTSTAMP:20260421T021415
CREATED:20221221T183827Z
LAST-MODIFIED:20241107T221658Z
UID:10000192-1744308000-1744315200@www.bcnh.org
SUMMARY:Seacoast Council Meeting
DESCRIPTION:Arrive at 6 p.m. for food and greetings\,  Meeting starts at 7:00 p.m. Non-members are always welcome. Hebert’s Restaurant\, in the shopping plaza at 1500 Lafayette Rd (RT. 1)\, Portsmouth\, NH.
URL:https://www.bcnh.org/event/seacoast-council-meeting-12/
CATEGORIES:BCNH Events
ORGANIZER;CN="NORM MICHAELS":MAILTO:NHMICHAELS@AOL.COM
END:VEVENT
BEGIN:VEVENT
DTSTART;TZID=America/New_York:20250313T180000
DTEND;TZID=America/New_York:20250313T200000
DTSTAMP:20260421T021415
CREATED:20221206T183528Z
LAST-MODIFIED:20241107T222405Z
UID:10000186-1741888800-1741896000@www.bcnh.org
SUMMARY:Seacoast Council Meeting
DESCRIPTION:Arrive at 6 p.m. for food and greetings\,  Meeting starts at 7:00 p.m. Non-members are always welcome. Hebert’s Restaurant\, in the shopping plaza at 1500 Lafayette Rd (RT. 1)\, Portsmouth\, NH.
URL:https://www.bcnh.org/event/seacoast-council-meeting-11/
CATEGORIES:BCNH Events
ORGANIZER;CN="NORM MICHAELS":MAILTO:NHMICHAELS@AOL.COM
END:VEVENT
BEGIN:VEVENT
DTSTART;TZID=America/New_York:20250213T180000
DTEND;TZID=America/New_York:20250213T200000
DTSTAMP:20260421T021415
CREATED:20221117T142152Z
LAST-MODIFIED:20241107T222750Z
UID:10000181-1739469600-1739476800@www.bcnh.org
SUMMARY:Seacoast Council Meeting
DESCRIPTION:Arrive at 6 p.m. for food and greetings\,  Meeting starts at 7:00 p.m. Non-members are always welcome. Hebert’s Restaurant\, in the shopping plaza at 1500 Lafayette Rd (RT. 1)\, Portsmouth\, NH.
URL:https://www.bcnh.org/event/seacoast-council-meeting-10/
CATEGORIES:BCNH Events
ORGANIZER;CN="NORM MICHAELS":MAILTO:NHMICHAELS@AOL.COM
END:VEVENT
BEGIN:VEVENT
DTSTART;TZID=America/New_York:20241219T190000
DTEND;TZID=America/New_York:20241219T200000
DTSTAMP:20260421T021415
CREATED:20211130T151645Z
LAST-MODIFIED:20231114T224851Z
UID:10000113-1734634800-1734638400@www.bcnh.org
SUMMARY:North Council Meeting\, no meeting this month
DESCRIPTION:No Meeting in December. Meetings will resume in January. \n  \n 
URL:https://www.bcnh.org/event/north-council-meeting-6/
CATEGORIES:BCNH Events
END:VEVENT
END:VCALENDAR