BEGIN:VCALENDAR
VERSION:2.0
PRODID:-//British Cars of New Hampshire - ECPv6.15.20//NONSGML v1.0//EN
CALSCALE:GREGORIAN
METHOD:PUBLISH
X-ORIGINAL-URL:https://www.bcnh.org
X-WR-CALDESC:Events for British Cars of New Hampshire
REFRESH-INTERVAL;VALUE=DURATION:PT1H
X-Robots-Tag:noindex
X-PUBLISHED-TTL:PT1H
BEGIN:VTIMEZONE
TZID:America/New_York
BEGIN:DAYLIGHT
TZOFFSETFROM:-0500
TZOFFSETTO:-0400
TZNAME:EDT
DTSTART:20250309T070000
END:DAYLIGHT
BEGIN:STANDARD
TZOFFSETFROM:-0400
TZOFFSETTO:-0500
TZNAME:EST
DTSTART:20251102T060000
END:STANDARD
BEGIN:DAYLIGHT
TZOFFSETFROM:-0500
TZOFFSETTO:-0400
TZNAME:EDT
DTSTART:20260308T070000
END:DAYLIGHT
BEGIN:STANDARD
TZOFFSETFROM:-0400
TZOFFSETTO:-0500
TZNAME:EST
DTSTART:20261101T060000
END:STANDARD
BEGIN:DAYLIGHT
TZOFFSETFROM:-0500
TZOFFSETTO:-0400
TZNAME:EDT
DTSTART:20270314T070000
END:DAYLIGHT
BEGIN:STANDARD
TZOFFSETFROM:-0400
TZOFFSETTO:-0500
TZNAME:EST
DTSTART:20271107T060000
END:STANDARD
END:VTIMEZONE
BEGIN:VEVENT
DTSTART;TZID=America/New_York:20260919T100000
DTEND;TZID=America/New_York:20260919T140000
DTSTAMP:20260420T224614
CREATED:20251217T202258Z
LAST-MODIFIED:20251217T202258Z
UID:10000368-1789812000-1789826400@www.bcnh.org
SUMMARY:Fryeburg Rec Car Show\, Fryeburg ME
DESCRIPTION:FYI for BCNH members\nFor all you “northern” BCNH members\, I wanted to give a heads up to a\ncool car show this coming September the 19 th in Fryeburg Maine. This is\njust over the NH Maine border and minutes from North Conway NH.\n Fryeburg Rec Car Show September 19\, 2026\, rain date is September\n20 2026\n Registration is 8am to 10am\, Show time 10am to 2pm\n Awards at 1pm\n $15 entry fee\n Food vendors\, music and more!\n Giveaway to first 100 cars pre-registered. To pre-register by email\,\nsend to fryeburgcic@gmail.com or scan the QR code on the poster\nFryeburg Rec Fields\n59 Recreation Drive\nFryeburg\, Maine 04037\nI reached out to Dave Swartz\, our hard-working newsletter editor to enquire\nabout adding this show date and maybe the poster that I was sent for our\nnewsletter. Dave was quick to respond positively!\nI have been working with the organizers who have promised to have new\n“British Car” class in the show.\nI entered my TR7 2 years in a row and really enjoyed myself. \nFor more information contact Steve Brooks\, SteveBrooks043@gmail.com
URL:https://www.bcnh.org/event/fryeburg-rec-car-show-fryeburg-me/
CATEGORIES:BCNH Events
END:VEVENT
BEGIN:VEVENT
DTSTART;TZID=America/New_York:20260920T090000
DTEND;TZID=America/New_York:20260920T110000
DTSTAMP:20260420T224614
CREATED:20240527T132054Z
LAST-MODIFIED:20251112T000102Z
UID:10000281-1789894800-1789902000@www.bcnh.org
SUMMARY:Monadnock Rotary Cruz-In
DESCRIPTION:Park your cars downtown Peterborough in Depot Square and go for breakfast. This event is popular with the Monadnock Council.
URL:https://www.bcnh.org/event/monadnock-rotary-cruz-in-4/
CATEGORIES:BCNH Events
END:VEVENT
BEGIN:VEVENT
DTSTART;TZID=America/New_York:20261003T100000
DTEND;TZID=America/New_York:20261003T140000
DTSTAMP:20260420T224614
CREATED:20260414T155305Z
LAST-MODIFIED:20260414T155305Z
UID:10000389-1791021600-1791036000@www.bcnh.org
SUMMARY:Castle in the Clouds Car Show\, Moultonborough\, NH
DESCRIPTION:Join us for our annual Castle Car Show: an exceptional showcase of automobiles set within a classic country estate. View stunning cars and motorcycles dating from the turn of the 20th century\, displayed in an equally breathtaking setting. \nAward categories will be announced closer to the date. \nAwards will be announced at 1:00 pm in the center of the field. \n 
URL:https://www.bcnh.org/event/castle-in-the-clouds-car-show-moultonborough-nh-2/
CATEGORIES:BCNH Events
END:VEVENT
BEGIN:VEVENT
DTSTART;TZID=America/New_York:20261005T180000
DTEND;TZID=America/New_York:20261005T200000
DTSTAMP:20260420T224614
CREATED:20230306T184736Z
LAST-MODIFIED:20251112T004943Z
UID:10000212-1791223200-1791230400@www.bcnh.org
SUMMARY:Southern Council Meeting
DESCRIPTION:Meeting starts at 7:00 pm.  Arrive at 6:00 pm if you wish to eat and socialize. Non-members are always welcome. Moe Joe’s Family Restaurant\, 2175 Candia Road\, Manchester\, NH.
URL:https://www.bcnh.org/event/southern-council-meeting-23/
CATEGORIES:BCNH Events
ORGANIZER;CN="Mike Sweet":MAILTO:coventrycat71@comcast.net
END:VEVENT
BEGIN:VEVENT
DTSTART;TZID=America/New_York:20261014T180000
DTEND;TZID=America/New_York:20261014T200000
DTSTAMP:20260420T224614
CREATED:20251105T205406Z
LAST-MODIFIED:20251106T002843Z
UID:10000358-1792000800-1792008000@www.bcnh.org
SUMMARY:Seacoast Council Meeting
DESCRIPTION:The Office Lounge Dovah\, 21 Third St\, Dover\, N.H. \nThere’s a metered lot right behind the restaurant and Dale Dean has arranged for us to park for free in the Ross Furniture lot on Second Street. \nThe meeting time is 6 p.m. for food and drinks\, The official meeting begins at 7. Non-members are always welcome.
URL:https://www.bcnh.org/event/seacoast-council-meeting-19/
CATEGORIES:BCNH Events
ORGANIZER;CN="NORM MICHAELS":MAILTO:NHMICHAELS@AOL.COM
END:VEVENT
BEGIN:VEVENT
DTSTART;TZID=America/New_York:20261015T180000
DTEND;TZID=America/New_York:20261015T200000
DTSTAMP:20260420T224614
CREATED:20230109T203145Z
LAST-MODIFIED:20251112T005525Z
UID:10000203-1792087200-1792094400@www.bcnh.org
SUMMARY:North Council Meeting
DESCRIPTION:The meeting starts at 7:00 pm. Arrive around 6:00 pm if you plan to eat and socialize. Non-members are always welcome to attend. \nThe Homestead Restaurant. 1567 Summer Street \, Bristol\, NH \nPlease remember to RSVP to Kellie\, Kabraconier5@gmail.com if you plan to attend.  We have to give an accurate\nheadcount to the Homestead.\n 
URL:https://www.bcnh.org/event/north-council-meeting-20/
LOCATION:The Homestead Restaurant\, 1567 Summer Street\, Bristol\, NH\, 03222
CATEGORIES:BCNH Events,Northern
END:VEVENT
BEGIN:VEVENT
DTSTART;TZID=America/New_York:20261020T180000
DTEND;TZID=America/New_York:20261020T200000
DTSTAMP:20260420T224614
CREATED:20230306T185947Z
LAST-MODIFIED:20251112T005718Z
UID:10000213-1792519200-1792526400@www.bcnh.org
SUMMARY:Monadnock Council Meeting
DESCRIPTION:Meet upstairs at 6 pm if you want to eat and socialize. The meeting will be downstairs at 7 pm. Non-members are welcome. Dublin Road Taproom and Eatery\, Shattuck Golf Course\, 53 Dublin Rd\, Jaffrey NH.
URL:https://www.bcnh.org/event/monadnock-council-meeting-21/
CATEGORIES:BCNH Events
END:VEVENT
BEGIN:VEVENT
DTSTART;TZID=America/New_York:20261102T180000
DTEND;TZID=America/New_York:20261102T200000
DTSTAMP:20260420T224614
CREATED:20211130T164924Z
LAST-MODIFIED:20251112T151359Z
UID:10000124-1793642400-1793649600@www.bcnh.org
SUMMARY:Southern Council Meeting
DESCRIPTION:Meetings start at 7:00 pm.  Arrive at 6:00 pm if you wish to eat and socialize.\nNon-members are welcome to attend.\n\nMoe Joe’s  Family Restaurant\,\n\n2175 Candia Rd\,\nManchester\, NH.  03104\n603-668-0131
URL:https://www.bcnh.org/event/southern-council-meeting-10/
LOCATION:Moe Joe’s Family Restaurant\, 2175 Candia Road\, Manchester\, NH\, 03104
CATEGORIES:BCNH Events
ORGANIZER;CN="Mike Sweet":MAILTO:coventrycat71@comcast.net
END:VEVENT
BEGIN:VEVENT
DTSTART;TZID=America/New_York:20261111T180000
DTEND;TZID=America/New_York:20261111T200000
DTSTAMP:20260420T224614
CREATED:20251105T205539Z
LAST-MODIFIED:20251105T205539Z
UID:10000359-1794420000-1794427200@www.bcnh.org
SUMMARY:Seacoast Council Meeting
DESCRIPTION:The Office Lounge Dovah\, 21 Third St\, Dover\, N.H. \nThere’s a metered lot right behind the restaurant and Dale Dean has arranged for us to park for free in the Ross Furniture lot on Second Street. \nThe meeting time is 6 p.m. for food and drinks\, The official meeting begins at 7. Non-members are always welcome.
URL:https://www.bcnh.org/event/seacoast-council-meeting-20/
CATEGORIES:BCNH Events
ORGANIZER;CN="NORM MICHAELS":MAILTO:NHMICHAELS@AOL.COM
END:VEVENT
BEGIN:VEVENT
DTSTART;TZID=America/New_York:20261117T180000
DTEND;TZID=America/New_York:20261117T200000
DTSTAMP:20260420T224614
CREATED:20251112T152922Z
LAST-MODIFIED:20251112T152922Z
UID:10000365-1794938400-1794945600@www.bcnh.org
SUMMARY:Monadnock Council Meeting\, No Meeting this Month
DESCRIPTION:Meetings will resume in February
URL:https://www.bcnh.org/event/monadnock-council-meeting-no-meeting-this-month-3/
CATEGORIES:BCNH Events
END:VEVENT
BEGIN:VEVENT
DTSTART;TZID=America/New_York:20261119T180000
DTEND;TZID=America/New_York:20261119T200000
DTSTAMP:20260420T224614
CREATED:20251112T151841Z
LAST-MODIFIED:20251112T151841Z
UID:10000362-1795111200-1795118400@www.bcnh.org
SUMMARY:Northern Council Meeting
DESCRIPTION:The meeting starts at 7:00 pm. Arrive around 6:00 pm if you plan to eat and socialize. Non-members are always welcome to attend. The Homestead Restaurant. 1567 Summer Street \, Bristol\, NH \nPlease remember to RSVP to Kellie\, Kabraconier5@gmail.com if you plan to attend.  We have to give an accurate\nheadcount to the Homestead.
URL:https://www.bcnh.org/event/northern-council-meeting/
LOCATION:The Homestead Restaurant\, 1567 Summer Street\, Bristol\, NH\, 03222
CATEGORIES:BCNH Events
END:VEVENT
BEGIN:VEVENT
DTSTART;TZID=America/New_York:20261205T120000
DTEND;TZID=America/New_York:20261205T160000
DTSTAMP:20260420T224614
CREATED:20251105T210059Z
LAST-MODIFIED:20251106T002727Z
UID:10000360-1796472000-1796486400@www.bcnh.org
SUMMARY:Seacoast Council Christmas Party
DESCRIPTION:The Seacoast chapter will be hosting a Holiday Party lunch on 12/5/26 at the Oak Street Bistro\, Alfred\, Maine\, beginning at 12:00 noon. Please bring an unwrapped gift for Toys for Tots. Each year we seek to fill an MG boot….
URL:https://www.bcnh.org/event/seacoast-council-christmas-party/
CATEGORIES:BCNH Events
ORGANIZER;CN="NORM MICHAELS":MAILTO:NHMICHAELS@AOL.COM
END:VEVENT
BEGIN:VEVENT
DTSTART;TZID=America/New_York:20261207T180000
DTEND;TZID=America/New_York:20261207T200000
DTSTAMP:20260420T224614
CREATED:20251112T152634Z
LAST-MODIFIED:20251112T152634Z
UID:10000364-1796666400-1796673600@www.bcnh.org
SUMMARY:Southern Council Meeting
DESCRIPTION:Meeting starts at 7:00 pm.  Arrive at 6:00 pm if you wish to eat and socialize. Non-members are always welcome.\nMoe Joe’s Family Restaurant   Please remember to bring a new\, unwrapped toy for  the Toys for Tots program.\n2175 Candia Road\,\nManchester\, NH
URL:https://www.bcnh.org/event/southern-council-meeting/
LOCATION:Moe Joe’s Family Restaurant\, 2175 Candia Road\, Manchester\, NH\, 03104
CATEGORIES:BCNH Events
ORGANIZER;CN="Mike Sweet":MAILTO:coventrycat71@comcast.net
END:VEVENT
BEGIN:VEVENT
DTSTART;TZID=America/New_York:20261215T180000
DTEND;TZID=America/New_York:20261215T200000
DTSTAMP:20260420T224614
CREATED:20251112T153204Z
LAST-MODIFIED:20251112T153204Z
UID:10000366-1797357600-1797364800@www.bcnh.org
SUMMARY:Monadnock Council Meeting\, No Meeting This Month
DESCRIPTION:Meetings will resume in February
URL:https://www.bcnh.org/event/monadnock-council-meeting-no-meeting-this-month-4/
CATEGORIES:BCNH Events
END:VEVENT
BEGIN:VEVENT
DTSTART;TZID=America/New_York:20261217T180000
DTEND;TZID=America/New_York:20261217T200000
DTSTAMP:20260420T224614
CREATED:20251112T152034Z
LAST-MODIFIED:20251112T152034Z
UID:10000363-1797530400-1797537600@www.bcnh.org
SUMMARY:Northern Council Meeting
DESCRIPTION:The meeting starts at 7:00 pm. Arrive around 6:00 pm if you plan to eat and socialize. Non-members are always welcome to attend. The Homestead Restaurant. 1567 Summer Street \, Bristol\, NH \nPlease remember to RSVP to Kellie\, Kabraconier5@gmail.com if you plan to attend.  We have to give an accurate\nheadcount to the Homestead.
URL:https://www.bcnh.org/event/northern-council-meeting-2/
LOCATION:The Homestead Restaurant\, 1567 Summer Street\, Bristol\, NH\, 03222
CATEGORIES:BCNH Events
END:VEVENT
END:VCALENDAR