BEGIN:VCALENDAR
VERSION:2.0
PRODID:-//British Cars of New Hampshire - ECPv6.15.20//NONSGML v1.0//EN
CALSCALE:GREGORIAN
METHOD:PUBLISH
X-WR-CALNAME:British Cars of New Hampshire
X-ORIGINAL-URL:https://www.bcnh.org
X-WR-CALDESC:Events for British Cars of New Hampshire
REFRESH-INTERVAL;VALUE=DURATION:PT1H
X-Robots-Tag:noindex
X-PUBLISHED-TTL:PT1H
BEGIN:VTIMEZONE
TZID:America/New_York
BEGIN:DAYLIGHT
TZOFFSETFROM:-0500
TZOFFSETTO:-0400
TZNAME:EDT
DTSTART:20250309T070000
END:DAYLIGHT
BEGIN:STANDARD
TZOFFSETFROM:-0400
TZOFFSETTO:-0500
TZNAME:EST
DTSTART:20251102T060000
END:STANDARD
BEGIN:DAYLIGHT
TZOFFSETFROM:-0500
TZOFFSETTO:-0400
TZNAME:EDT
DTSTART:20260308T070000
END:DAYLIGHT
BEGIN:STANDARD
TZOFFSETFROM:-0400
TZOFFSETTO:-0500
TZNAME:EST
DTSTART:20261101T060000
END:STANDARD
BEGIN:DAYLIGHT
TZOFFSETFROM:-0500
TZOFFSETTO:-0400
TZNAME:EDT
DTSTART:20270314T070000
END:DAYLIGHT
BEGIN:STANDARD
TZOFFSETFROM:-0400
TZOFFSETTO:-0500
TZNAME:EST
DTSTART:20271107T060000
END:STANDARD
END:VTIMEZONE
BEGIN:VEVENT
DTSTART;TZID=America/New_York:20260721T180000
DTEND;TZID=America/New_York:20260721T200000
DTSTAMP:20260421T223509
CREATED:20230109T195613Z
LAST-MODIFIED:20251026T200813Z
UID:10000195-1784656800-1784664000@www.bcnh.org
SUMMARY:Monadnock Council Meeting
DESCRIPTION:Meet upstairs at 6 pm if you want to eat and socialize. The meeting will be downstairs at 7 pm. Non-members are welcome. Dublin Road Taproom and Eatery\, Shattuck Golf Course\, 53 Dublin Rd\, Jaffrey NH.
URL:https://www.bcnh.org/event/monadnock-council-meeting-18/
LOCATION:Dublin Road Taproom & Eatery\, 53 Dublin Road\, Jaffrey\, NH\, 03452
CATEGORIES:BCNH Events
END:VEVENT
BEGIN:VEVENT
DTSTART;TZID=America/New_York:20260803T180000
DTEND;TZID=America/New_York:20260803T200000
DTSTAMP:20260421T223509
CREATED:20230109T200157Z
LAST-MODIFIED:20251031T200819Z
UID:10000198-1785780000-1785787200@www.bcnh.org
SUMMARY:Southern Council Meeting
DESCRIPTION:Meeting starts at 7:00 pm.  Arrive at 6:00 pm if you wish to eat and socialize. Non-members are always welcome. Moe Joe’s Family Restaurant\, 2175 Candia Road\, Manchester\, NH.
URL:https://www.bcnh.org/event/southern-council-meeting-21/
LOCATION:NH
CATEGORIES:BCNH Events
ORGANIZER;CN="Mike Sweet":MAILTO:coventrycat71@comcast.net
END:VEVENT
BEGIN:VEVENT
DTSTART;TZID=America/New_York:20260808T090000
DTEND;TZID=America/New_York:20260808T110000
DTSTAMP:20260421T223509
CREATED:20260131T160527Z
LAST-MODIFIED:20260131T160527Z
UID:10000376-1786179600-1786186800@www.bcnh.org
SUMMARY:Cars and Coffee\, Deerfield\, NH
DESCRIPTION:British Car Repairs\n\n\n\n58 Church Street\n\n\n\nDeerfield\,  NH\n\n\nSteve Banner: 858-231- 0833
URL:https://www.bcnh.org/event/cars-and-coffee-deerfield-nh-3/
LOCATION:NH
CATEGORIES:BCNH Events
END:VEVENT
BEGIN:VEVENT
DTSTART;TZID=America/New_York:20260812T180000
DTEND;TZID=America/New_York:20260812T200000
DTSTAMP:20260421T223509
CREATED:20230727T203902Z
LAST-MODIFIED:20251031T201347Z
UID:10000234-1786557600-1786564800@www.bcnh.org
SUMMARY:Seacoast Council Meeting
DESCRIPTION:The Office Lounge Dovah\, 21 Third St\, Dover\, N.H. \nThere’s a metered lot right behind the restaurant and Dale Dean has arranged for us to park for free in the Ross Furniture lot on Second Street. \nThe meeting time is 6 p.m. for food and drinks\, The official meeting begins at 7. Non-members are always welcome.
URL:https://www.bcnh.org/event/seacoast-council-meeting-17/
LOCATION:NH
CATEGORIES:BCNH Events
ORGANIZER;CN="NORM MICHAELS":MAILTO:NHMICHAELS@AOL.COM
END:VEVENT
BEGIN:VEVENT
DTSTART;TZID=America/New_York:20260815T100000
DTEND;TZID=America/New_York:20260815T150000
DTSTAMP:20260421T223509
CREATED:20260302T213730Z
LAST-MODIFIED:20260302T213730Z
UID:10000385-1786788000-1786806000@www.bcnh.org
SUMMARY:Blind Driver Funkana and Picnic\, Weare\, NH
DESCRIPTION:August 15 – Blind Driver Funkana and Picnic 10am – 3pm\nA low key and fun event with no pressure. Simply drive a course through the field blindfolded with your passenger directing you. Pack a picnic\, and                        there is plenty of parking.\nThis is held at Crackerbox Palac\, 125 Sugar Hill\, Weare NH.
URL:https://www.bcnh.org/event/blind-driver-funkana-and-picnic-weare-nh/
LOCATION:NH
CATEGORIES:BCNH Events
ORGANIZER;CN="Mike Sweet":MAILTO:coventrycat71@comcast.net
END:VEVENT
BEGIN:VEVENT
DTSTART;TZID=America/New_York:20260816T090000
DTEND;TZID=America/New_York:20260816T110000
DTSTAMP:20260421T223509
CREATED:20240527T131926Z
LAST-MODIFIED:20251031T201511Z
UID:10000280-1786870800-1786878000@www.bcnh.org
SUMMARY:Monadnock Rotary Cruz-In
DESCRIPTION:Park your cars downtown Peterborough in Depot Square and go for breakfast. This event is popular with the Monadnock Council.
URL:https://www.bcnh.org/event/monadnock-rotary-cruz-in-3/
LOCATION:NH
CATEGORIES:BCNH Events
END:VEVENT
BEGIN:VEVENT
DTSTART;TZID=America/New_York:20260818T180000
DTEND;TZID=America/New_York:20260818T200000
DTSTAMP:20260421T223509
CREATED:20230109T200552Z
LAST-MODIFIED:20251031T201647Z
UID:10000200-1787076000-1787083200@www.bcnh.org
SUMMARY:Monadnock Council Meeting
DESCRIPTION:Meet upstairs at 6 pm if you want to eat and socialize. The meeting will be downstairs at 7 pm. Non-members are welcome. Dublin Road Taproom and Eatery\, Shattuck Golf Course\, 53 Dublin Rd\, Jaffrey NH.
URL:https://www.bcnh.org/event/monadnock-council-meeting-19/
LOCATION:NH
CATEGORIES:BCNH Events
END:VEVENT
BEGIN:VEVENT
DTSTART;TZID=America/New_York:20260909T180000
DTEND;TZID=America/New_York:20260909T200000
DTSTAMP:20260421T223509
CREATED:20251105T205131Z
LAST-MODIFIED:20251105T205131Z
UID:10000357-1788976800-1788984000@www.bcnh.org
SUMMARY:Seacoast Council Meeting
DESCRIPTION:The Office Lounge Dovah\, 21 Third St\, Dover\, N.H. \nThere’s a metered lot right behind the restaurant and Dale Dean has arranged for us to park for free in the Ross Furniture lot on Second Street. \nThe meeting time is 6 p.m. for food and drinks\, The official meeting begins at 7. Non-members are always welcome.
URL:https://www.bcnh.org/event/seacoast-council-meeting-18/
LOCATION:NH
CATEGORIES:BCNH Events
ORGANIZER;CN="NORM MICHAELS":MAILTO:NHMICHAELS@AOL.COM
END:VEVENT
BEGIN:VEVENT
DTSTART;TZID=America/New_York:20260914T180000
DTEND;TZID=America/New_York:20260914T200000
DTSTAMP:20260421T223509
CREATED:20230109T202513Z
LAST-MODIFIED:20251111T235432Z
UID:10000201-1789408800-1789416000@www.bcnh.org
SUMMARY:Southern Council Meeting
DESCRIPTION:Meeting starts at 7:00 pm.  Arrive at 6:00 pm if you wish to eat and socialize. Non-members are always welcome. Moe Joe’s Family Restaurant\, 2175 Candia Road\, Manchester\, NH. \nThe meeting this month is a week later due to Labor Day.
URL:https://www.bcnh.org/event/southern-council-meeting-22/
LOCATION:NH
CATEGORIES:BCNH Events
ORGANIZER;CN="Mike Sweet":MAILTO:coventrycat71@comcast.net
END:VEVENT
BEGIN:VEVENT
DTSTART;TZID=America/New_York:20260915T180000
DTEND;TZID=America/New_York:20260915T200000
DTSTAMP:20260421T223509
CREATED:20230109T202856Z
LAST-MODIFIED:20251111T235800Z
UID:10000204-1789495200-1789502400@www.bcnh.org
SUMMARY:Monadnock Council Meeting
DESCRIPTION:Meet upstairs at 6 pm if you want to eat and socialize. The meeting will be downstairs at 7 pm. Non-members are welcome. Dublin Road Taproom and Eatery\, Shattuck Golf Course\, 53 Dublin Rd\, Jaffrey NH.
URL:https://www.bcnh.org/event/monadnock-council-meeting-20/
LOCATION:Dublin Road Taproom & Eatery\, 53 Dublin Road\, Jaffrey\, NH\, 03452
CATEGORIES:BCNH Events
END:VEVENT
BEGIN:VEVENT
DTSTART;TZID=America/New_York:20260917T180000
DTEND;TZID=America/New_York:20260917T200000
DTSTAMP:20260421T223509
CREATED:20230306T190944Z
LAST-MODIFIED:20251111T235924Z
UID:10000214-1789668000-1789675200@www.bcnh.org
SUMMARY:North  Council Meeting
DESCRIPTION:The meeting starts at 7:00 pm. Arrive around 6:00 pm if you plan to eat and socialize. Non-members are always welcome to attend. \nThe Homestead Restaurant. 1567 Summer Street \, Bristol\, NH. \nPlease remember to RSVP to Kellie\, Kabraconier5@gmail.com if you plan to attend.  We have to give an accurate\nheadcount to the Homestead.\n 
URL:https://www.bcnh.org/event/north-council-meeting-21/
LOCATION:The Homestead Restaurant\, 1567 Summer Street\, Bristol\, NH\, 03222
CATEGORIES:BCNH Events
END:VEVENT
BEGIN:VEVENT
DTSTART;TZID=America/New_York:20260919T100000
DTEND;TZID=America/New_York:20260919T140000
DTSTAMP:20260421T223509
CREATED:20251217T202258Z
LAST-MODIFIED:20251217T202258Z
UID:10000368-1789812000-1789826400@www.bcnh.org
SUMMARY:Fryeburg Rec Car Show\, Fryeburg ME
DESCRIPTION:FYI for BCNH members\nFor all you “northern” BCNH members\, I wanted to give a heads up to a\ncool car show this coming September the 19 th in Fryeburg Maine. This is\njust over the NH Maine border and minutes from North Conway NH.\n Fryeburg Rec Car Show September 19\, 2026\, rain date is September\n20 2026\n Registration is 8am to 10am\, Show time 10am to 2pm\n Awards at 1pm\n $15 entry fee\n Food vendors\, music and more!\n Giveaway to first 100 cars pre-registered. To pre-register by email\,\nsend to fryeburgcic@gmail.com or scan the QR code on the poster\nFryeburg Rec Fields\n59 Recreation Drive\nFryeburg\, Maine 04037\nI reached out to Dave Swartz\, our hard-working newsletter editor to enquire\nabout adding this show date and maybe the poster that I was sent for our\nnewsletter. Dave was quick to respond positively!\nI have been working with the organizers who have promised to have new\n“British Car” class in the show.\nI entered my TR7 2 years in a row and really enjoyed myself. \nFor more information contact Steve Brooks\, SteveBrooks043@gmail.com
URL:https://www.bcnh.org/event/fryeburg-rec-car-show-fryeburg-me/
LOCATION:NH
CATEGORIES:BCNH Events
END:VEVENT
END:VCALENDAR