BEGIN:VCALENDAR
VERSION:2.0
PRODID:-//British Cars of New Hampshire - ECPv6.15.20//NONSGML v1.0//EN
CALSCALE:GREGORIAN
METHOD:PUBLISH
X-WR-CALNAME:British Cars of New Hampshire
X-ORIGINAL-URL:https://www.bcnh.org
X-WR-CALDESC:Events for British Cars of New Hampshire
REFRESH-INTERVAL;VALUE=DURATION:PT1H
X-Robots-Tag:noindex
X-PUBLISHED-TTL:PT1H
BEGIN:VTIMEZONE
TZID:America/New_York
BEGIN:DAYLIGHT
TZOFFSETFROM:-0500
TZOFFSETTO:-0400
TZNAME:EDT
DTSTART:20250309T070000
END:DAYLIGHT
BEGIN:STANDARD
TZOFFSETFROM:-0400
TZOFFSETTO:-0500
TZNAME:EST
DTSTART:20251102T060000
END:STANDARD
BEGIN:DAYLIGHT
TZOFFSETFROM:-0500
TZOFFSETTO:-0400
TZNAME:EDT
DTSTART:20260308T070000
END:DAYLIGHT
BEGIN:STANDARD
TZOFFSETFROM:-0400
TZOFFSETTO:-0500
TZNAME:EST
DTSTART:20261101T060000
END:STANDARD
BEGIN:DAYLIGHT
TZOFFSETFROM:-0500
TZOFFSETTO:-0400
TZNAME:EDT
DTSTART:20270314T070000
END:DAYLIGHT
BEGIN:STANDARD
TZOFFSETFROM:-0400
TZOFFSETTO:-0500
TZNAME:EST
DTSTART:20271107T060000
END:STANDARD
END:VTIMEZONE
BEGIN:VEVENT
DTSTART;TZID=America/New_York:20260521T120000
DTEND;TZID=America/New_York:20260521T150000
DTSTAMP:20260420T112834
CREATED:20260409T001927Z
LAST-MODIFIED:20260409T001927Z
UID:10000388-1779364800-1779375600@www.bcnh.org
SUMMARY:Drive the Refinery\, Andover\, NH
DESCRIPTION:Please note this is an event open to all BCNH Members.\n\nThursday May 21st the Northern and Monadnock councils will drive over and meet up at the Refinery Restaurant in Andover\, NH at 12 Noon.\nPlease go around to the back\, lower parking lot of the restaurant as we will be having an impromptu car show to prove we have dusted \noff the cars and love to talk about them! \nLunch will be served at 1:00pm and you MUST RSVP to Kellie at kabraconier5@gmail.com so that we can get an accurate headcount for the restaurant.\nWe will be seated in a separate dining room and can order off the menu with separate checks.  \n\nThe Monadnock Council is working on a drive possibly starting from Peterborough. Information will be posted on this when it is available.
URL:https://www.bcnh.org/event/drive-the-refinery-andover-nh/
CATEGORIES:BCNH Events
END:VEVENT
END:VCALENDAR